BEGIN:VCALENDAR
VERSION:2.0
CALSCALE:GREGORIAN
PRODID:adamgibbons/ics
METHOD:PUBLISH
X-PUBLISHED-TTL:PT1H
BEGIN:VEVENT
UID:1442@calendrigeek.com
SUMMARY:Abitibi E-Sports - Soirée Jeux Libres Spéciale Halloween
DTSTAMP:20260421T102347Z
DTSTART:20251031T200000Z
DTEND:20251101T010000Z
DESCRIPTION:Soirée Jeux Libre Spéciale Halloween – 31 octobre dès 16h\n\nPr
	éparez vos déguisements\, on vous prépare une soirée... monstrueusement\na
	musante!\n\nLe vendredi 31 octobre\, dès 16h\, Abitibi E-Sports vous ouvre
	 les portes de son\nlocal habituel pour une soirée jeux libre sous le thèm
	e de l’Halloween! Voici ce\nqui vous attend :\n\nJeux vidéo d’Halloween – 
	Pour petits et grands (screamer non garantis).\n\nCoin coloriage – Pour le
	s enfants… et pour les plus grands\, c’est monochrome ou\nrien (si tu te d
	emandes c'est quoi\, va voir en commentaire )\n\nAccès exclusif aux jeux r
	étro de Code César – Une dose de nostalgie pour\nl’occasion.\n\nBonbons gr
	atuits – Pour tou·te·s les courageux·ses qui viendront nous dire\nbonjour…
	 en costume!\n\nTarif : 7$ par personne – pour accéder à toutes les activi
	tés (y compris le\npouvoir de dessiner une citrouille en 4K noir et blanc)
	.\n\nVenez passer un bon moment avec nous dans une ambiance festive\, cost
	umée et\nlégèrement pixelisée!\n\nOn vous attend au local habituel\, dès 1
	6h!
URL:https://calendrigeek.com/event/abitibi-e-sports-soiree-jeux-libres-spec
	iale-halloween
GEO:48.5719;-78.1178
LOCATION:Abitibi E-Sports\, Amos - 71\, 1re avenue Ouest\, Amos
STATUS:CONFIRMED
CATEGORIES:Halloween,Jeux libres,Jeux vidéo,Social
X-ALT-DESC;FMTTYPE=text/html:<p>Soirée Jeux Libre Spéciale Halloween – 31 o
	ctobre dès 16h</p><p>Préparez vos déguisements, on vous prépare une soirée
	... monstrueusement amusante!</p><p>Le vendredi 31 octobre, dès 16h, Abiti
	bi E-Sports vous ouvre les portes de son local habituel pour une soirée je
	ux libre sous le thème de l’Halloween! Voici ce qui vous attend :</p><p> J
	eux vidéo d’Halloween – Pour petits et grands (screamer non garantis).</p>
	<p> Coin coloriage – Pour les enfants… et pour les plus grands, c’est mono
	chrome ou rien (si tu te demandes c'est quoi, va voir en commentaire )</p>
	<p> Accès exclusif aux jeux rétro de Code César – Une dose de nostalgie po
	ur l’occasion.</p><p> Bonbons gratuits – Pour tou·te·s les courageux·ses q
	ui viendront nous dire bonjour… en costume!</p><p> Tarif : 7$ par personne
	 – pour accéder à toutes les activités (y compris le pouvoir de dessiner u
	ne citrouille en 4K noir et blanc).</p><p>Venez passer un bon moment avec 
	nous dans une ambiance festive, costumée et légèrement pixelisée!</p><p> O
	n vous attend au local habituel, dès 16h!</p>
BEGIN:VALARM
ACTION:DISPLAY
DESCRIPTION:Abitibi E-Sports - Soirée Jeux Libres Spéciale Halloween
TRIGGER:-PT1H
END:VALARM
END:VEVENT
END:VCALENDAR
