BEGIN:VCALENDAR
VERSION:2.0
CALSCALE:GREGORIAN
PRODID:adamgibbons/ics
METHOD:PUBLISH
X-PUBLISHED-TTL:PT1H
BEGIN:VEVENT
UID:1443@calendrigeek.com
SUMMARY:Activité d'halloween "le Portail"
DTSTAMP:20260421T091623Z
DTSTART:20251031T200000Z
DTEND:20251101T000000Z
DESCRIPTION:https://facebook.com/events/s/halloween-au-centre-ville/4221340
	684802225/\n[https://facebook.com/events/s/halloween-au-centre-ville/42213
	40684802225/]
URL:https://calendrigeek.com/event/activite-dhalloween-le-portail
GEO:48.5719;-78.1161
LOCATION:AMOS - Amos
STATUS:CONFIRMED
CATEGORIES:
X-ALT-DESC;FMTTYPE=text/html:<p><a href="https://facebook.com/events/s/hall
	oween-au-centre-ville/4221340684802225/" target="_blank">https://facebook.
	com/events/s/halloween-au-centre-ville/4221340684802225/</a></p>
BEGIN:VALARM
ACTION:DISPLAY
DESCRIPTION:Activité d'halloween "le Portail"
TRIGGER:-PT1H
END:VALARM
END:VEVENT
END:VCALENDAR
