BEGIN:VCALENDAR
VERSION:2.0
CALSCALE:GREGORIAN
PRODID:adamgibbons/ics
METHOD:PUBLISH
X-PUBLISHED-TTL:PT1H
BEGIN:VEVENT
UID:1398@calendrigeek.com
SUMMARY:Casino Royal Richelieu 2025
DTSTAMP:20260421T085358Z
DTSTART:20251025T220000Z
DESCRIPTION:GRANDE SOIRÉE CASINO BÉNÉFICE – Samedi 25 OCTOBRE\nThéâtre des 
	Eskers à partir de 18:00\nPlus de 15 000 $ en prix de présence!\nAu profit
	 de la pédiatrie de l’Hôpital d’Amos\nPréparez-vous à vivre une soirée ino
	ubliable où le jeu rencontre la générosité!\nVenez tenter votre chance dan
	s une ambiance chic et festive\, tout en soutenant\nune cause qui touche l
	e cœur de notre communauté.\nTables de jeux : Poker\, blackjack\, roulette
	 et plus\nPrix de présence : Plus de 15 000 $ à gagner\nCocktails et surpr
	ises toute la soirée\nBillets en vente dès maintenant! 150$\nPlaces limité
	es\nChaque jeton compte pour les enfants d’ici.\nJoignez-vous à nous pour 
	une soirée où le plaisir fait du bien!
URL:https://calendrigeek.com/event/casino-royal-richelieu-2025
GEO:48.5649;-78.1121
LOCATION:Théâtre des Eskers\, Amos - 152\, 14e Avenue Est\, Amos\, Abitibi\
	, Québec
STATUS:CONFIRMED
CATEGORIES:Casino,Jeux de cartes
X-ALT-DESC;FMTTYPE=text/html:<p>GRANDE SOIRÉE CASINO BÉNÉFICE – Samedi 25 O
	CTOBRE <br> Théâtre des Eskers à partir de 18:00<br> Plus de 15 000 $ en p
	rix de présence!<br> Au profit de la pédiatrie de l’Hôpital d’Amos<br>Prép
	arez-vous à vivre une soirée inoubliable où le jeu rencontre la générosité
	! Venez tenter votre chance dans une ambiance chic et festive, tout en sou
	tenant une cause qui touche le cœur de notre communauté.<br> Tables de jeu
	x : Poker, blackjack, roulette et plus<br> Prix de présence : Plus de 15 0
	00 $ à gagner<br> Cocktails et surprises toute la soirée<br> Billets en ve
	nte dès maintenant! 150$<br>Places limitées<br> Chaque jeton compte pour l
	es enfants d’ici.<br>Joignez-vous à nous pour une soirée où le plaisir fai
	t du bien!</p>
BEGIN:VALARM
ACTION:DISPLAY
DESCRIPTION:Casino Royal Richelieu 2025
TRIGGER:-PT1H
END:VALARM
END:VEVENT
END:VCALENDAR
