BEGIN:VCALENDAR
VERSION:2.0
CALSCALE:GREGORIAN
PRODID:adamgibbons/ics
METHOD:PUBLISH
X-PUBLISHED-TTL:PT1H
BEGIN:VEVENT
UID:800@calendrigeek.com
SUMMARY:Conte en famille
DTSTAMP:20260422T222115Z
DTSTART:20250226T150000Z
DTEND:20250226T160000Z
DESCRIPTION:Un moment privilégié avec votre enfant\, pour partager le plais
	ir de lire\nensemble !\n\nRejoignez-nous pour une belle expérience de lect
	ure en duo\, sans réservation !\nIl vous suffit de vous présenter directem
	ent à la bibliothèque.\n\n\nVenez passer un moment intime et enrichissant 
	avec votre petit\, autour de livres\n!
URL:https://calendrigeek.com/event/conte-en-famille-60
GEO:48.097;-77.7905
LOCATION:Complexe culturel Marcel-Monette\, Val-d'Or - 600\, 7e Rue\, Bourl
	amaque\, Val-d'Or\, La Vallée-de-l'Or\, Québec\, J9P 3P3\, Canada
STATUS:CONFIRMED
CATEGORIES:Conte
X-ALT-DESC;FMTTYPE=text/html:<p>Un moment privilégié avec votre enfant, pou
	r partager le plaisir de lire ensemble !</p><p>Rejoignez-nous pour une bel
	le expérience de lecture en duo, sans réservation ! Il vous suffit de vous
	 présenter directement à la bibliothèque.<br></p><p>Venez passer un moment
	 intime et enrichissant avec votre petit, autour de livres !</p>
BEGIN:VALARM
ACTION:DISPLAY
DESCRIPTION:Conte en famille
TRIGGER:-PT1H
END:VALARM
END:VEVENT
END:VCALENDAR
