BEGIN:VCALENDAR
VERSION:2.0
CALSCALE:GREGORIAN
PRODID:adamgibbons/ics
METHOD:PUBLISH
X-PUBLISHED-TTL:PT1H
BEGIN:VEVENT
UID:1394@calendrigeek.com
SUMMARY:Couloir de l'horreur
DTSTAMP:20260421T085211Z
DTSTART:20251031T223000Z
DTEND:20251101T003000Z
DESCRIPTION:Le retour du Couloir de l’horreur de la Maison des jeunes l’Éne
	rgiteck\, en\ncollaboration avec Eldorado Gold Québec et Espace Abitibi-Es
	t.\n\nQuelque chose de sombre rôde à Val-d’Or…\nDes disparitions inquiétan
	tes se multiplient\, et aucun indice n’a encore été\ntrouvé.\nLes habitant
	s murmurent\, les ombres s’allongent… et la peur s’installe.\nAurez-vous l
	e courage de percer le mystère et de découvrir ce qui se cache dans\nl’obs
	curité ?\n\n• Rendez-vous le 31 octobre de 18h30 à 20h30\n• Maison Lamaque
	 d’Eldorado Gold Québec au 119 rue Perry Drive\, Val-d’Or\n\nÀ noter :\n• 
	Venez à pied ! Plusieurs espaces de stationnement sont disponibles à\nprox
	imité.\n• Un corridor de sécurité pour piétons sera installé sur Perry Dri
	ve à partir de\nla rue St-Jacques.\n• Un sentier adapté pour les plus peti
	ts sera également organisé\, afin que toute\nla famille puisse participer 
	et profiter de l’activité.\n• Certaines scènes peuvent affecter les person
	nes photosensibles.
URL:https://calendrigeek.com/event/couloir-de-lhorreur-2
GEO:48.096;-77.7701
LOCATION:Maison Lamaque\, Val-d'Or - 119\, Rue Perry\, Bourlamaque\, Val-d'
	Or\, La Vallée-de-l'Or\, Abitibi-Témiscamingue\, Québec\, J9P 1P9\, Canada
STATUS:CONFIRMED
CATEGORIES:Costumes,Halloween
X-ALT-DESC;FMTTYPE=text/html:<p>Le retour du Couloir de l’horreur de la Mai
	son des jeunes l’Énergiteck, en collaboration avec Eldorado Gold Québec et
	 Espace Abitibi-Est.</p><p>Quelque chose de sombre rôde à Val-d’Or…<br>Des
	 disparitions inquiétantes se multiplient, et aucun indice n’a encore été 
	trouvé.<br>Les habitants murmurent, les ombres s’allongent… et la peur s’i
	nstalle.<br>Aurez-vous le courage de percer le mystère et de découvrir ce 
	qui se cache dans l’obscurité ?</p><p>• Rendez-vous le 31 octobre de 18h30
	 à 20h30<br>• Maison Lamaque d’Eldorado Gold Québec au 119 rue Perry Drive
	, Val-d’Or</p><p>À noter :<br>• Venez à pied ! Plusieurs espaces de statio
	nnement sont disponibles à proximité.<br>• Un corridor de sécurité pour pi
	étons sera installé sur Perry Drive à partir de la rue St-Jacques.<br>• Un
	 sentier adapté pour les plus petits sera également organisé, afin que tou
	te la famille puisse participer et profiter de l’activité.<br>• Certaines 
	scènes peuvent affecter les personnes photosensibles.</p>
BEGIN:VALARM
ACTION:DISPLAY
DESCRIPTION:Couloir de l'horreur
TRIGGER:-PT1H
END:VALARM
END:VEVENT
END:VCALENDAR
