BEGIN:VCALENDAR
VERSION:2.0
CALSCALE:GREGORIAN
PRODID:adamgibbons/ics
METHOD:PUBLISH
X-PUBLISHED-TTL:PT1H
BEGIN:VEVENT
UID:1602@calendrigeek.com
SUMMARY:Diner geek de Janvier 2026
DTSTAMP:20260421T100448Z
DTSTART:20260121T170000Z
DTEND:20260121T180000Z
DESCRIPTION:Un geek c'est quoi ? C'est plus que parlé de l'univers Marvel o
	u de jeux vidéo.\nUn geek est avant tout un passionné qui aime transmettre
	 sa passion et découvrir\ncelle des autres. Venez découvrir de nouvelles p
	assions\, débattre de l'a venir\nde notre région ou seulement partager la 
	tienne.
URL:https://calendrigeek.com/event/diner-geek-de-janvier-2026
GEO:47.3313;-79.4387
LOCATION:Café de la Salle d'exposition du Rift\, Ville-Marie - 42\, rue Sai
	nte-Anne\, Ville-Marie (Qc) J9V 2B7
STATUS:CONFIRMED
CATEGORIES:
X-ALT-DESC;FMTTYPE=text/html:<p>Un geek c'est quoi ? C'est plus que parlé d
	e l'univers Marvel ou de jeux vidéo. Un geek est avant tout un passionné q
	ui aime transmettre sa passion et découvrir celle des autres. Venez découv
	rir de nouvelles passions, débattre de l'a venir de notre région ou seulem
	ent partager la tienne.</p>
BEGIN:VALARM
ACTION:DISPLAY
DESCRIPTION:Diner geek de Janvier 2026
TRIGGER:-PT1H
END:VALARM
END:VEVENT
END:VCALENDAR
