BEGIN:VCALENDAR
VERSION:2.0
CALSCALE:GREGORIAN
PRODID:adamgibbons/ics
METHOD:PUBLISH
X-PUBLISHED-TTL:PT1H
BEGIN:VEVENT
UID:1527@calendrigeek.com
SUMMARY:Diner geek des fêtes
DTSTAMP:20260421T100334Z
DTSTART:20251217T170000Z
DTEND:20251217T180000Z
DESCRIPTION:Un geek c'est quoi ?\nC'est plus que parlé de l'univers Marvel 
	ou de jeux vidéo.\n\nUn geek est avant tout un passionné qui aime transmet
	tre sa passion et découvrir\ncelle des autres.\n\nVenez découvrir de nouve
	lles passions\, débattre de l'avenir de notre région ou\nseulement partage
	r la tienne.
URL:https://calendrigeek.com/event/diner-geek-des-fetes
GEO:47.3313;-79.4387
LOCATION:Café de la Salle d'exposition du Rift\, Ville-Marie - 42\, rue Sai
	nte-Anne\, Ville-Marie (Qc) J9V 2B7
STATUS:CONFIRMED
CATEGORIES:Citoyen,débat,discussion,Politique,Social
X-ALT-DESC;FMTTYPE=text/html:<p><strong>Un geek c'est quoi ?</strong><br>C'
	est plus que parlé de l'univers Marvel ou de jeux vidéo.</p><p>Un geek est
	 avant tout un passionné qui aime transmettre sa passion et découvrir cell
	e des autres.</p><p>Venez découvrir de nouvelles passions, débattre de l'a
	venir de notre région ou seulement partager la tienne.</p>
BEGIN:VALARM
ACTION:DISPLAY
DESCRIPTION:Diner geek des fêtes
TRIGGER:-PT1H
END:VALARM
END:VEVENT
END:VCALENDAR
