BEGIN:VCALENDAR
VERSION:2.0
CALSCALE:GREGORIAN
PRODID:adamgibbons/ics
METHOD:PUBLISH
X-PUBLISHED-TTL:PT1H
BEGIN:VEVENT
UID:1324@calendrigeek.com
SUMMARY:Draft MTG Set : Duskmourn House Of Horror.
DTSTAMP:20260421T141959Z
DTSTART:20250928T220000Z
DTEND:20250929T010000Z
DESCRIPTION:Format Draft\n18H00\n31$\n\n5-8 joueurs = 3 rounds\n9-16 joueur
	s = 4 rounds\n17-32 joueurs = 5 rounds\n\nBoissons et snack disponible sur
	 place .\n\nAu plaisir de vous voir!
URL:https://calendrigeek.com/event/draft-mtg-set-duskmourn-house-of-horror
GEO:48.5721;-78.1203
LOCATION:Le stratagème Boutique ludique\, Amos - 215 1e avenue ouest Amos
STATUS:CONFIRMED
CATEGORIES:Jeux de cartes,Jeux de cartes à collectionner,magic the gatherin
	g,MTG,tcg
X-ALT-DESC;FMTTYPE=text/html:<p>Format Draft<br>18H00<br>31$<br><br>5-8 jou
	eurs = 3 rounds<br>9-16 joueurs = 4 rounds<br>17-32 joueurs = 5 rounds<br>
	<br>Boissons et snack disponible sur place .<br><br>Au plaisir de vous voi
	r!</p>
BEGIN:VALARM
ACTION:DISPLAY
DESCRIPTION:Draft MTG Set : Duskmourn House Of Horror.
TRIGGER:-PT1H
END:VALARM
END:VEVENT
END:VCALENDAR
