BEGIN:VCALENDAR
VERSION:2.0
CALSCALE:GREGORIAN
PRODID:adamgibbons/ics
METHOD:PUBLISH
X-PUBLISHED-TTL:PT1H
BEGIN:VEVENT
UID:1412@calendrigeek.com
SUMMARY:Évènement jeux de société avec Débranche et joue!
DTSTAMP:20260421T102347Z
DTSTART:20251102T180000Z
DTEND:20251103T000000Z
DESCRIPTION:Vous aimez les jeux de société ? Que vous soyez stratège\, amat
	eur de défis\nrapides ou joueur occasionnel\, il y en aura pour tous les g
	oûts!\n\nDimanche 2 novembre\nDe 13 h à 19 h\nThéâtre Malartic\n\nVenez pa
	sser un après-midi ludique en famille ou entre ami(e)s.\n\nDes jeux pour t
	ous les âges\, un animateur pour vous faire découvrir de nouveaux\njeux\, 
	une ambiance conviviale… et même un service de bar sur place!\n\nGratuit e
	t ouvert à tou(te)s!
URL:https://calendrigeek.com/event/evenement-jeux-de-societe-avec-debranche
	-et-joue
GEO:48.1332;-78.1227
LOCATION:Bibliothèque municipale\, Malartic - 640\, Rue de la Paix\, Malart
	ic\, La Vallée-de-l'Or\, Québec\, J0Y 1Z0\, Canada
STATUS:CONFIRMED
CATEGORIES:Jeux de société
X-ALT-DESC;FMTTYPE=text/html:<p>Vous aimez les jeux de société ? Que vous s
	oyez stratège, amateur de défis rapides ou joueur occasionnel, il y en aur
	a pour tous les goûts!</p><p>Dimanche 2 novembre<br> De 13 h à 19 h<br> Th
	éâtre Malartic</p><p>Venez passer un après-midi ludique en famille ou entr
	e ami(e)s.</p><p>Des jeux pour tous les âges, un animateur pour vous faire
	 découvrir de nouveaux jeux, une ambiance conviviale… et même un service d
	e bar sur place!</p><p>Gratuit et ouvert à tou(te)s!</p>
BEGIN:VALARM
ACTION:DISPLAY
DESCRIPTION:Évènement jeux de société avec Débranche et joue!
TRIGGER:-PT1H
END:VALARM
END:VEVENT
END:VCALENDAR
