BEGIN:VCALENDAR
VERSION:2.0
CALSCALE:GREGORIAN
PRODID:adamgibbons/ics
METHOD:PUBLISH
X-PUBLISHED-TTL:PT1H
BEGIN:VEVENT
UID:1413@calendrigeek.com
SUMMARY:Expo-Cadeaux 2025 à Malartic
DTSTAMP:20260421T100512Z
DTSTART:20251108T150000Z
DTEND:20251108T210000Z
DESCRIPTION:N'hésitez pas à partager cette invitation
URL:https://calendrigeek.com/event/expo-cadeaux-2025-a-malartic
GEO:48.1342;-78.1212
LOCATION:Église\, Malartic - 581\, Rue Royale\, Malartic\, La Vallée-de-l'O
	r\, Québec\, J0Y 1Z0\, Canada
STATUS:CONFIRMED
CATEGORIES:Marché,Noël
X-ALT-DESC;FMTTYPE=text/html:<p>N'hésitez pas à partager cette invitation</
	p>
BEGIN:VALARM
ACTION:DISPLAY
DESCRIPTION:Expo-Cadeaux 2025 à Malartic
TRIGGER:-PT1H
END:VALARM
END:VEVENT
END:VCALENDAR
