BEGIN:VCALENDAR
VERSION:2.0
CALSCALE:GREGORIAN
PRODID:adamgibbons/ics
METHOD:PUBLISH
X-PUBLISHED-TTL:PT1H
BEGIN:VEVENT
UID:1384@calendrigeek.com
SUMMARY:Expo cadeaux des artisans de Val-d'Or 2025
DTSTAMP:20260421T085551Z
DTSTART:20251115T140000Z
DTEND:20251116T200000Z
DESCRIPTION:L'expo cadeaux des artisans de Val-d'Or est un marché qui valor
	ise les artisans\nlocaux et régionaux. C'est un événement unique pour déco
	uvrir les talents cachés\nde nos exposants et de faire de belles trouvaill
	es pour les Fêtes. Que ce soit\npour offrir un cadeau unique ou pour vous 
	faire plaisir\, vous trouverez\ncertainement votre compte à notre marché. 
	Cette année\, nous avons le bonheur\nd'accueillir plus de 70 artisans!\n\n
	Dépôt à neige le lutin\, le Père-Noël et notre maquilleuse préférée sont\n
	généralement de la fête au grand bonheur des petits et des grands! Vous po
	urrez\naussi profiter d'une belle ambiance des Fêtes en buvant un bon choc
	olat chaud.\n\nL'activité est organisée en collaboration avec le Centre de
	 formation\nprofessionnelle Val-d'Or afin d'amasser des fonds pour les élè
	ves qui\nparticipent au stage à l'international à Nice en France.\n\nNous 
	avons hâte de vous voir en grand nombre!
URL:https://calendrigeek.com/event/expo-cadeaux-des-artisans-de-val-dor-202
	5
GEO:48.0943;-77.7882
LOCATION:Polyvalente le Carrefour\, Val-d'Or - 125\, Rue Self\, Bourlamaque
	\, Val-d'Or\, La Vallée-de-l'Or\, Québec\, J9P3N2\, Canada
STATUS:CONFIRMED
CATEGORIES:Artisanat,Marché,Salon
X-ALT-DESC;FMTTYPE=text/html:<p>L'expo cadeaux des artisans de Val-d'Or est
	 un marché qui valorise les artisans locaux et régionaux. C'est un événeme
	nt unique pour découvrir les talents cachés de nos exposants et de faire d
	e belles trouvailles pour les Fêtes. Que ce soit pour offrir un cadeau uni
	que ou pour vous faire plaisir, vous trouverez certainement votre compte à
	 notre marché. Cette année, nous avons le bonheur d'accueillir plus de 70 
	artisans!</p><p>Dépôt à neige le lutin, le Père-Noël et notre maquilleuse 
	préférée sont généralement de la fête au grand bonheur des petits et des g
	rands! Vous pourrez aussi profiter d'une belle ambiance des Fêtes en buvan
	t un bon chocolat chaud.</p><p>L'activité est organisée en collaboration a
	vec le Centre de formation professionnelle Val-d'Or afin d'amasser des fon
	ds pour les élèves qui participent au stage à l'international à Nice en Fr
	ance.</p><p>Nous avons hâte de vous voir en grand nombre!</p>
BEGIN:VALARM
ACTION:DISPLAY
DESCRIPTION:Expo cadeaux des artisans de Val-d'Or 2025
TRIGGER:-PT1H
END:VALARM
END:VEVENT
END:VCALENDAR
