BEGIN:VCALENDAR
VERSION:2.0
CALSCALE:GREGORIAN
PRODID:adamgibbons/ics
METHOD:PUBLISH
X-PUBLISHED-TTL:PT1H
BEGIN:VEVENT
UID:1383@calendrigeek.com
SUMMARY:Halloween au centre-ville
DTSTAMP:20260421T084855Z
DTSTART:20251025T170000Z
DTEND:20251025T200000Z
DESCRIPTION:La traditionnelle collecte de bonbons au centre-ville de Val-d'
	Or sera de retour\nle 25 octobre prochain de 13h à 16h !\n\nCet événement 
	automnal et rassembleur\, organisé cette année par les Avenues d'la\n3\, e
	st l’occasion de parcourir le centre-ville dans une ambiance festive\, vêt
	us\nde vos plus beaux déguisements ! Pour l'occasion\, la 3e avenue sera f
	ermée à la\ncirculation de la 5e rue à la rue d'Ukraine. Au programme : di
	stribution de\nfriandises\, animations ludiques\, couloir de l'horreur et 
	plus encore.\n\nMerci à nos partenaires: Amusement Abitibi et Hôtel Contin
	ental Centre-ville\,\npour leur soutien à cet événement.
URL:https://calendrigeek.com/event/halloween-au-centre-ville
GEO:48.1023;-77.7876
LOCATION:Val-d'Or - La Vallée-de-l'Or\, Québec\, Canada
STATUS:CONFIRMED
CATEGORIES:Costumes,Halloween
X-ALT-DESC;FMTTYPE=text/html:<p>La traditionnelle collecte de bonbons au ce
	ntre-ville de Val-d'Or sera de retour le 25 octobre prochain de 13h à 16h 
	!</p><p>Cet événement automnal et rassembleur, organisé cette année par le
	s Avenues d'la 3, est l’occasion de parcourir le centre-ville dans une amb
	iance festive, vêtus de vos plus beaux déguisements ! Pour l'occasion, la 
	3e avenue sera fermée à la circulation de la 5e rue à la rue d'Ukraine. Au
	 programme : distribution de friandises, animations ludiques, couloir de l
	'horreur et plus encore.</p><p>Merci à nos partenaires: Amusement Abitibi 
	et Hôtel Continental Centre-ville, pour leur soutien à cet événement.</p>
BEGIN:VALARM
ACTION:DISPLAY
DESCRIPTION:Halloween au centre-ville
TRIGGER:-PT1H
END:VALARM
END:VEVENT
END:VCALENDAR
