BEGIN:VCALENDAR
VERSION:2.0
CALSCALE:GREGORIAN
PRODID:adamgibbons/ics
METHOD:PUBLISH
X-PUBLISHED-TTL:PT1H
BEGIN:VEVENT
UID:1567@calendrigeek.com
SUMMARY:Magic The Gathering!! Pré release de Lorwin Eclipsed no.2
DTSTAMP:20260421T112532Z
DTSTART:20260117T180000Z
DTEND:20260117T220000Z
DESCRIPTION:Pré release Magic the gathering de Lorwin Eclipsed no.2\nFormat
	: Sealed\nPrix: Taxes incluses\n\n5-8 joueurs = 3 rounds\n9-16 joueurs = 4
	 rounds\n17+ joueurs = 5 rounds\n\nNourriture et boissons sur place\n\nAu 
	plaisir de vous voir.\n-L'équipe du Stratagème.
URL:https://calendrigeek.com/event/magic-the-gathering-pre-release-de-lorwi
	n-eclipsed-no2
GEO:48.5721;-78.1203
LOCATION:Le stratagème Boutique ludique\, Amos - 215 1e avenue ouest Amos
STATUS:CONFIRMED
CATEGORIES:Jeux de cartes,Jeux de cartes à collectionner,magic the gatherin
	g,MTG,tcg
X-ALT-DESC;FMTTYPE=text/html:<p>Pré release Magic the gathering de Lorwin E
	clipsed no.2<br>Format: Sealed<br>Prix: Taxes incluses<br><br>5-8 joueurs 
	= 3 rounds<br>9-16 joueurs = 4 rounds<br>17+ joueurs = 5 rounds<br><br>Nou
	rriture et boissons sur place<br><br>Au plaisir de vous voir.<br>-L'équipe
	 du Stratagème.</p>
BEGIN:VALARM
ACTION:DISPLAY
DESCRIPTION:Magic The Gathering!! Pré release de Lorwin Eclipsed no.2
TRIGGER:-PT1H
END:VALARM
END:VEVENT
END:VCALENDAR
