BEGIN:VCALENDAR
VERSION:2.0
CALSCALE:GREGORIAN
PRODID:adamgibbons/ics
METHOD:PUBLISH
X-PUBLISHED-TTL:PT1H
BEGIN:VEVENT
UID:1388@calendrigeek.com
SUMMARY:Marché de noël
DTSTAMP:20260421T100310Z
DTSTART:20251130T150000Z
DESCRIPTION:Notre Marché des Fêtes de l'édition 2025 aura lieu à la Place A
	gnico Eagle\, le\n30 novembre\, de 10 h à 16 h.\nProfitez-en pour venir ma
	gasiner de beaux cadeaux à offrir… et même à vous\noffrir!
URL:https://calendrigeek.com/event/marche-de-noel-1
GEO:48.1039;-77.7835
LOCATION:Place Agnico-Eagle\, Val-d'Or - 1300\, 8e rue\, Val-d'Or
STATUS:CONFIRMED
CATEGORIES:Marché,Noël
X-ALT-DESC;FMTTYPE=text/html:<p>Notre Marché des Fêtes de l'édition 2025 au
	ra lieu à la Place Agnico Eagle, le 30 novembre, de 10 h à 16 h.<br>Profit
	ez-en pour venir magasiner de beaux cadeaux à offrir… et même à vous offri
	r!</p>
BEGIN:VALARM
ACTION:DISPLAY
DESCRIPTION:Marché de noël
TRIGGER:-PT1H
END:VALARM
END:VEVENT
END:VCALENDAR
