BEGIN:VCALENDAR
VERSION:2.0
CALSCALE:GREGORIAN
PRODID:adamgibbons/ics
METHOD:PUBLISH
X-PUBLISHED-TTL:PT1H
BEGIN:VEVENT
UID:1385@calendrigeek.com
SUMMARY:Marché de noël à la campagne
DTSTAMP:20260421T085102Z
DTSTART:20251129T170000Z
DTEND:20251129T213000Z
DESCRIPTION:Nous serons une quinzaine d’exposants.\nPère Noël et grincheux 
	seront parmi nous avec leurs magies et des friandises\npour les enfants.\n
	Musiques\, feu de joie\, idées cadeaux\, bonnes bouffes\, confiseries\, cu
	isines\nfines…..nous aurons également\, une maquilleuse professionnelle po
	ur les petits.\nC’est à mettre à vos agenda.\nL’évènement se veut généreux
	\, festif\, traditionnel\, amusant\, agréable\, unique et\nmémorable.\nAu 
	plaisir de vous y voir.
URL:https://calendrigeek.com/event/marche-de-noel-a-la-campagne-1
GEO:48.0958;-77.9111
LOCATION:186 chemin des Explorateurs\, Val-d'Or\, Québec\, Canada - 186\, C
	hemin des Explorateurs\, Val-d'Or\, La Vallée-de-l'Or\, Québec\, J9P 4N7\,
	 Canada
STATUS:CONFIRMED
CATEGORIES:Marché,Noël,Salon
X-ALT-DESC;FMTTYPE=text/html:<p>Nous serons une quinzaine d’exposants.<br>P
	ère Noël et grincheux seront parmi nous avec leurs magies et des friandise
	s pour les enfants.<br>Musiques, feu de joie, idées cadeaux, bonnes bouffe
	s, confiseries, cuisines fines…..nous aurons également, une maquilleuse pr
	ofessionnelle pour les petits.<br>C’est à mettre à vos agenda.<br>L’évènem
	ent se veut généreux, festif, traditionnel, amusant, agréable, unique et m
	émorable.<br>Au plaisir de vous y voir.</p>
BEGIN:VALARM
ACTION:DISPLAY
DESCRIPTION:Marché de noël à la campagne
TRIGGER:-PT1H
END:VALARM
END:VEVENT
END:VCALENDAR
