BEGIN:VCALENDAR
VERSION:2.0
CALSCALE:GREGORIAN
PRODID:adamgibbons/ics
METHOD:PUBLISH
X-PUBLISHED-TTL:PT1H
BEGIN:VEVENT
UID:1401@calendrigeek.com
SUMMARY:Marché public des fêtes
DTSTAMP:20260421T100419Z
DTSTART:20251115T150000Z
DTEND:20251116T210000Z
DESCRIPTION:À la SUM du CÉGEP AT CAMPUS ROUYN-NORANDA\n(Entrée principale)\
	nSamedi 15 Nov 10h00 à 16h00\nDimanche 16 Nov 10h00 à 16h00\n\nUne superbe
	 "brochette" de producteurs agro alimentaire & artisans seront au\nrendez-
	vous. Le Marché Public des fêtes est le rendez-vous des épicuriens avec\nl
	a plus grande offre agroalimentaire. Pour un Noël gourmand et les plus bea
	ux\ncadeaux fait ICI\nC'est un Rendez-vous!
URL:https://calendrigeek.com/event/marche-public-des-fetes-1
GEO:48.2281;-79.0073
LOCATION:Campus\, Rouyn-Noranda - 425\, Boulevard du Collège\, Rouyn\, Rouy
	n-Noranda\, Abitibi-Témiscamingue\, Québec\, J9X 5C9\, Canada
STATUS:CONFIRMED
CATEGORIES:Marché,Noël
X-ALT-DESC;FMTTYPE=text/html:<p>À la SUM du CÉGEP AT CAMPUS ROUYN-NORANDA<b
	r>(Entrée principale)<br>Samedi 15 Nov 10h00 à 16h00<br>Dimanche 16 Nov 10
	h00 à 16h00</p><p>Une superbe "brochette" de producteurs agro alimentaire 
	&amp; artisans seront au rendez-vous. Le Marché Public des fêtes est le re
	ndez-vous des épicuriens avec la plus grande offre agroalimentaire. Pour u
	n Noël gourmand et les plus beaux cadeaux fait ICI<br>C'est un Rendez-vous
	!</p>
BEGIN:VALARM
ACTION:DISPLAY
DESCRIPTION:Marché public des fêtes
TRIGGER:-PT1H
END:VALARM
END:VEVENT
END:VCALENDAR
