BEGIN:VCALENDAR
VERSION:2.0
CALSCALE:GREGORIAN
PRODID:adamgibbons/ics
METHOD:PUBLISH
X-PUBLISHED-TTL:PT1H
BEGIN:VEVENT
UID:1410@calendrigeek.com
SUMMARY:Match des bleus contre les jaunes
DTSTAMP:20260421T085115Z
DTSTART:20251024T233000Z
DESCRIPTION:Ne manquez pas le Premier match de la saison le vendredi 24 oct
	obre opposant\nl'équipe des bleus et des Jaunes.\n\nLes matchs sont présen
	tés gratuitement (contribution volontaire). 18+ Car les\nmatchs sont prése
	ntés dans un bar.\n\nNous vous recommandons d'arriver d'avance pour avoir 
	de bonnes places\, merci de\nvotre présence !
URL:https://calendrigeek.com/event/match-des-bleus-contre-les-jaunes
GEO:48.2483;-79.0175
LOCATION:Cabaret de la dernière chance\, Rouyn-Noranda - 146\, 8e Rue\, Vie
	ux Noranda\, Noranda\, Rouyn-Noranda\, Abitibi-Témiscamingue\, Québec\, J9
	X 5A9\, Canada
STATUS:CONFIRMED
CATEGORIES:Improvisation
X-ALT-DESC;FMTTYPE=text/html:<p>Ne manquez pas le Premier match de la saiso
	n le vendredi 24 octobre opposant l'équipe des bleus et des Jaunes.</p><p>
	Les matchs sont présentés gratuitement (contribution volontaire). 18+ Car 
	les matchs sont présentés dans un bar.</p><p>Nous vous recommandons d'arri
	ver d'avance pour avoir de bonnes places, merci de votre présence !</p>
BEGIN:VALARM
ACTION:DISPLAY
DESCRIPTION:Match des bleus contre les jaunes
TRIGGER:-PT1H
END:VALARM
END:VEVENT
END:VCALENDAR
