BEGIN:VCALENDAR
VERSION:2.0
CALSCALE:GREGORIAN
PRODID:adamgibbons/ics
METHOD:PUBLISH
X-PUBLISHED-TTL:PT1H
BEGIN:VEVENT
UID:1446@calendrigeek.com
SUMMARY:Party d'halloween
DTSTAMP:20260421T084614Z
DTSTART:20251108T000000Z
DESCRIPTION:Venez participer au plus gros party d'Halloween de l'Abitibi!\n
	\nAu menu :\n\nDJ Carl\, jeux de foire pis ben du fun!\n\nDes prix seront 
	remis au plus beau costume\, au plus original ainsi qu'au plus\neffrayant!
	\n\nBar et cantine sur place!\n\nEnfant (12 ans et moins) - GRATUIT\nAdult
	e (13 ans et plus) 5$ en prévente ou 10$ la journée de l'évènement!\n\nLes
	 fonds ramassés serviront à financer notre équipe à l'édition 2027 du Rall
	ye\nRoses des Sables.\n\nOn vous y attend en grand nombre après la collect
	e de bonbons de vos p’tits\nmonstres
URL:https://calendrigeek.com/event/party-dhalloween-4
GEO:48.6734;-78.1094
LOCATION:41 Rue de l'Aqueduc\, St-Félix-de-Dalquier\, QC J0Y 1G0\, Canada -
	 Rue de l'Aqueduc\, Saint-Félix-de-Dalquier\, Amos\, Abitibi\, Abitibi-Tém
	iscamingue\, Québec\, Canada
STATUS:CONFIRMED
CATEGORIES:Halloween,Party
X-ALT-DESC;FMTTYPE=text/html:<p>Venez participer au plus gros party d'Hallo
	ween de l'Abitibi!</p><p>Au menu :</p><p>DJ Carl, jeux de foire pis ben du
	 fun!</p><p>Des prix seront remis au plus beau costume, au plus original a
	insi qu'au plus effrayant!</p><p>Bar et cantine sur place!</p><p>Enfant (1
	2 ans et moins) - GRATUIT<br> Adulte (13 ans et plus) 5$ en prévente ou 10
	$ la journée de l'évènement!</p><p>Les fonds ramassés serviront à financer
	 notre équipe à l'édition 2027 du Rallye Roses des Sables.</p><p>On vous y
	 attend en grand nombre après la collecte de bonbons de vos p’tits monstre
	s</p>
BEGIN:VALARM
ACTION:DISPLAY
DESCRIPTION:Party d'halloween
TRIGGER:-PT1H
END:VALARM
END:VEVENT
END:VCALENDAR
