BEGIN:VCALENDAR
VERSION:2.0
CALSCALE:GREGORIAN
PRODID:adamgibbons/ics
METHOD:PUBLISH
X-PUBLISHED-TTL:PT1H
BEGIN:VEVENT
UID:1392@calendrigeek.com
SUMMARY:Party d'halloween au Bâton Rouge de Val-d'Or
DTSTAMP:20260421T085609Z
DTSTART:20251101T010000Z
DESCRIPTION:L’Halloween\, c’est fait pour s’amuser! Viens célébrer avec nou
	s le vendredi 31\noctobre au Bâton Rouge de Val-d’Or!\n\nCostumes bienvenu
	s (voire fortement recommandés )\, ambiance festive au menu\, DJ\nsur plac
	e pour vous faire danser (Énerdance) et autres surprises à venir!\n\nC’est
	 le temps de sortir entre ami.e.s — musique\, rires et danse au rendez-vou
	s!
URL:https://calendrigeek.com/event/party-dhalloween-au-baton-rouge-de-val-d
	or-1
GEO:48.1038;-77.8017
LOCATION:Bâton Rouge\, Val-d'Or - 1325\, 3e Avenue\, Jacola\, Val-d'Or\, La
	 Vallée-de-l'Or\, Québec\, J9P 1T5\, Canada
STATUS:CONFIRMED
CATEGORIES:Halloween,Party
X-ALT-DESC;FMTTYPE=text/html:<p>L’Halloween, c’est fait pour s’amuser! Vien
	s célébrer avec nous le vendredi 31 octobre au Bâton Rouge de Val-d’Or!</p
	><p>Costumes bienvenus (voire fortement recommandés ), ambiance festive au
	 menu, DJ sur place pour vous faire danser (Énerdance) et autres surprises
	 à venir!</p><p>C’est le temps de sortir entre ami.e.s — musique, rires et
	 danse au rendez-vous!</p>
BEGIN:VALARM
ACTION:DISPLAY
DESCRIPTION:Party d'halloween au Bâton Rouge de Val-d'Or
TRIGGER:-PT1H
END:VALARM
END:VEVENT
END:VCALENDAR
