BEGIN:VCALENDAR
VERSION:2.0
CALSCALE:GREGORIAN
PRODID:adamgibbons/ics
METHOD:PUBLISH
X-PUBLISHED-TTL:PT1H
BEGIN:VEVENT
UID:1347@calendrigeek.com
SUMMARY:Rallye de l'horreur au Pixel
DTSTAMP:20260421T085914Z
DTSTART:20251101T220000Z
DTEND:20251102T060000Z
DESCRIPTION:Ok c'est le 1er novembre mais c'est quand même la soirée d'Hall
	oween au Pixel!\n\nOn vous a préparé un parcours d'horreur inspiré de quel
	ques films classiques au\nsous-sol\, en plus d'une sélection de jeux vidéo
	 et une soirée Blood on the Clock\nTower!\n\nGardez un oeil sur notre page
	 Facebook et notre serveur Discord pour d'autres\ninfos
URL:https://calendrigeek.com/event/rallye-de-lhorreur-au-pixel
GEO:48.2371;-79.0202
LOCATION:Pixel Espace Vidéoludique - 140 avenue Principale\, Rouyn-Noranda
STATUS:CONFIRMED
CATEGORIES:Jeux de société,Jeux vidéo,Social
X-ALT-DESC;FMTTYPE=text/html:<p>Ok c'est le 1er novembre mais c'est quand m
	ême la soirée d'Halloween au Pixel!</p><p>On vous a préparé un parcours d'
	horreur inspiré de quelques films classiques au sous-sol, en plus d'une sé
	lection de jeux vidéo et une soirée Blood on the Clock Tower!</p><p>Gardez
	 un oeil sur notre page Facebook et notre serveur Discord pour d'autres in
	fos</p>
BEGIN:VALARM
ACTION:DISPLAY
DESCRIPTION:Rallye de l'horreur au Pixel
TRIGGER:-PT1H
END:VALARM
END:VEVENT
END:VCALENDAR
