BEGIN:VCALENDAR
VERSION:2.0
CALSCALE:GREGORIAN
PRODID:adamgibbons/ics
METHOD:PUBLISH
X-PUBLISHED-TTL:PT1H
BEGIN:VEVENT
UID:1411@calendrigeek.com
SUMMARY:Rencontre d'auteurs | Avec Geneviève Béland et Henri Jacob
DTSTAMP:20260421T102414Z
DTSTART:20251023T230000Z
DESCRIPTION:La Ville de La Sarre a le plaisir de vous inviter au centre d’a
	rt pour une\nsoirée de discussion et d’échange autour du livre « La derniè
	re si on la perd »\nde Geneviève Béland et Henri Jacob. Cette œuvre\, prés
	entée sous la forme d’une\ncorrespondance entre deux passionnés du territo
	ire\, examine les révoltes et les\nluttes à travers un prisme écologiste e
	t militant.\n\nCette œuvre\, présentée sous la forme d’une correspondance 
	entre deux passionnés\ndu territoire\, examine les révoltes et les luttes 
	à travers un prisme écologiste\net militant.\n\nSous l’animation de Franço
	is Grenier\, cette rencontre vous convie à explorer des\nthématiques telle
	s que l’indignation\, la mobilisation face aux enjeux mondiaux\,\net la qu
	ête de solutions aux problèmes contemporains\, en mettant un accent\nparti
	culier sur les enjeux écologiques et sociaux.\n\nGratuit\, bienvenue à tou
	s !\n\nCette activité est présentée dans le cadre de la Semaine des biblio
	thèques\npubliques.
URL:https://calendrigeek.com/event/rencontre-dauteurs-or-avec-genevieve-bel
	and-et-henri-jacob
GEO:48.807;-79.2048
LOCATION:Théâtre Lilianne-Perreault\, La Sarre - 195\, Rue Principale\, La 
	Sarre\, Abitibi-Ouest\, Québec\, J9Z 0A0\, Canada
STATUS:CONFIRMED
CATEGORIES:Auteurs,Livre
X-ALT-DESC;FMTTYPE=text/html:<p>La Ville de La Sarre a le plaisir de vous i
	nviter au centre d’art pour une soirée de discussion et d’échange autour d
	u livre « La dernière si on la perd » de Geneviève Béland et Henri Jacob. 
	Cette œuvre, présentée sous la forme d’une correspondance entre deux passi
	onnés du territoire, examine les révoltes et les luttes à travers un prism
	e écologiste et militant.</p><p>Cette œuvre, présentée sous la forme d’une
	 correspondance entre deux passionnés du territoire, examine les révoltes 
	et les luttes à travers un prisme écologiste et militant.</p><p>Sous l’ani
	mation de François Grenier, cette rencontre vous convie à explorer des thé
	matiques telles que l’indignation, la mobilisation face aux enjeux mondiau
	x, et la quête de solutions aux problèmes contemporains, en mettant un acc
	ent particulier sur les enjeux écologiques et sociaux.</p><p>Gratuit, bien
	venue à tous !</p><p>Cette activité est présentée dans le cadre de la Sema
	ine des bibliothèques publiques.</p>
BEGIN:VALARM
ACTION:DISPLAY
DESCRIPTION:Rencontre d'auteurs | Avec Geneviève Béland et Henri Jacob
TRIGGER:-PT1H
END:VALARM
END:VEVENT
END:VCALENDAR
