BEGIN:VCALENDAR
VERSION:2.0
CALSCALE:GREGORIAN
PRODID:adamgibbons/ics
METHOD:PUBLISH
X-PUBLISHED-TTL:PT1H
BEGIN:VEVENT
UID:1403@calendrigeek.com
SUMMARY:Show métal d'Halloween avec NecroticGoreBeast\, Art of gore\, Colon
	y Omicron & Disembalmed
DTSTAMP:20260421T085818Z
DTSTART:20251101T233000Z
DESCRIPTION:SHOW BRUTAL D'HALLOWEEN AVEC NECROTICGOREBEAST\, ART OF GORE\, 
	COLONY OMICRON &\nDISEMBALMED!\n\nPour moi\, l'Halloween\, ce n'est absolu
	ment pas "les petits fantômes cutes" et\nles épouvantails décoratifs de ta
	 matante... Pour moi\, l'Halloween\, c'est\nsanglant\, c'est l'horreur et 
	c'est épeurant! Alors dans cet ordre d'idées\, je\nsuis fébrile de vous pr
	ésenter la soirée d'Halloween des Productions Ça bûche\navec nul autre que
	 NECROTICGOREBEAST en tête d'affiche pour cette soirée tout à\nfait brutal
	e!\n\nLes hostilités accueilleront aussi Art of gore\, Colony Omicron et D
	isembalmed!\nDisembalmed ouvriront la soirée avec des covers brutaux à sou
	hait\, tous issus de\nvos albums et artistes brutaux favoris (ou pas)!\n\n
	Ça ne sera pas pour les doux et c'est le 1 novembre que ça se passe! Porte
	 ton\nplus beau costume\, apporte tes ballons de plage et tes plus beaux s
	ouliers de\ndanse.... parce que ça va danser sur un solide temps!\n\nBille
	ts en vente maintenant!
URL:https://calendrigeek.com/event/show-metal-dhalloween-avec-necroticgoreb
	east-art-of-gore-colony-omicron-and-disembalmed
GEO:48.2423;-79.0205
LOCATION:Le QG\, Rouyn-Noranda - 11\, Avenue Principale\, Rouyn\, Rouyn-Nor
	anda\, Abitibi-Témiscamingue\, Québec\, J9X 3V6\, Canada
STATUS:CONFIRMED
CATEGORIES:Halloween,musique,Party
X-ALT-DESC;FMTTYPE=text/html:<p>SHOW BRUTAL D'HALLOWEEN AVEC NECROTICGOREBE
	AST, ART OF GORE, COLONY OMICRON &amp; DISEMBALMED!</p><p>Pour moi, l'Hall
	oween, ce n'est absolument pas "les petits fantômes cutes" et les épouvant
	ails décoratifs de ta matante... Pour moi, l'Halloween, c'est sanglant, c'
	est l'horreur et c'est épeurant! Alors dans cet ordre d'idées, je suis féb
	rile de vous présenter la soirée d'Halloween des Productions Ça bûche avec
	 nul autre que NECROTICGOREBEAST en tête d'affiche pour cette soirée tout 
	à fait brutale!</p><p>Les hostilités accueilleront aussi Art of gore, Colo
	ny Omicron et Disembalmed! Disembalmed ouvriront la soirée avec des covers
	 brutaux à souhait, tous issus de vos albums et artistes brutaux favoris (
	ou pas)!</p><p>Ça ne sera pas pour les doux et c'est le 1 novembre que ça 
	se passe! Porte ton plus beau costume, apporte tes ballons de plage et tes
	 plus beaux souliers de danse.... parce que ça va danser sur un solide tem
	ps!</p><p>Billets en vente maintenant!</p>
BEGIN:VALARM
ACTION:DISPLAY
DESCRIPTION:Show métal d'Halloween avec NecroticGoreBeast, Art of gore, Col
	ony Omicron & Disembalmed
TRIGGER:-PT1H
END:VALARM
END:VEVENT
END:VCALENDAR
