BEGIN:VCALENDAR
VERSION:2.0
CALSCALE:GREGORIAN
PRODID:adamgibbons/ics
METHOD:PUBLISH
X-PUBLISHED-TTL:PT1H
BEGIN:VEVENT
UID:1391@calendrigeek.com
SUMMARY:Soirée contes autour du feu
DTSTAMP:20260421T084741Z
DTSTART:20251105T230000Z
DTEND:20251106T010000Z
DESCRIPTION:Cette activité en plein air à la Forêt récréative de Val-d'Or c
	onvie les\nparticipants à se rassembler autour d’un feu à la Forêt récréat
	ive de Val-d’Or.\nLe conteur local\, André Bernard\, y animera la soirée e
	n partageant des récits\ninspirés du territoire québécois!\n\nOuverte à to
	utes et à tous\, cette expérience vise à accueillir les nouveaux\narrivant
	s\, à leur faire découvrir la culture locale et à tisser des liens\nauthen
	tiques entre eux et la communauté d’accueil. Rien n’égale la chaleur d’une
	\nrencontre humaine\, sensorielle et collective pour nourrir la compréhens
	ion\nmutuelle et le sentiment d’appartenance!\n\n> En collaboration avec l
	e Festival de contes et légendes de\nl’Abitibi-Témiscamingue et le Festiva
	l de musique Trad de Val-d'Or.
URL:https://calendrigeek.com/event/soiree-contes-autour-du-feu
GEO:48.0592;-77.7935
LOCATION:Chalet d'accueil de la Forêt récréative\, Val-d'Or - 179\, Chemin 
	de la Forêt-Récréative\, Val-d'Or\, La Vallée-de-l'Or\, Québec\, J9P 0E9\,
	 Canada
STATUS:CONFIRMED
CATEGORIES:Conte
X-ALT-DESC;FMTTYPE=text/html:<p>Cette activité en plein air à la Forêt récr
	éative de Val-d'Or convie les participants à se rassembler autour d’un feu
	 à la Forêt récréative de Val-d’Or. Le conteur local, André Bernard, y ani
	mera la soirée en partageant des récits inspirés du territoire québécois!<
	/p><p>Ouverte à toutes et à tous, cette expérience vise à accueillir les n
	ouveaux arrivants, à leur faire découvrir la culture locale et à tisser de
	s liens authentiques entre eux et la communauté d’accueil. Rien n’égale la
	 chaleur d’une rencontre humaine, sensorielle et collective pour nourrir l
	a compréhension mutuelle et le sentiment d’appartenance!</p><p>&gt; En col
	laboration avec le Festival de contes et légendes de l’Abitibi-Témiscaming
	ue et le Festival de musique Trad de Val-d'Or.</p>
BEGIN:VALARM
ACTION:DISPLAY
DESCRIPTION:Soirée contes autour du feu
TRIGGER:-PT1H
END:VALARM
END:VEVENT
END:VCALENDAR
