BEGIN:VCALENDAR
VERSION:2.0
CALSCALE:GREGORIAN
PRODID:adamgibbons/ics
METHOD:PUBLISH
X-PUBLISHED-TTL:PT1H
BEGIN:VEVENT
UID:1498@calendrigeek.com
SUMMARY:Soirée jeu de rôle spéciale fête de fin d'année !
DTSTAMP:20260421T102414Z
DTSTART:20251213T230000Z
DTEND:20251214T030000Z
DESCRIPTION:Bienvenue à notre soirée jeu de rôle !\n\nNous sommes ravis de 
	vous inviter à une soirée inoubliable dédiée aux amateurs\nde jeux de rôle
	. Que vous soyez un vétéran ou un nouveau venu\, rejoignez-nous\npour une 
	aventure épique ! Voici les détails des cinq tables disponibles :\n\n 1. O
	utgunned: 24 décembre 18h00. Une dernière visite guidée de la demeure\n   
	 officielle du premier ministre qui y reçoit Céline Dion pour un dîner de\
	n    Noël privé. Soudain\, des coups de feu éclatent. Les gardes tombent. 
	Les\n    communications sont coupées\, les enfants pleurent et le Premier 
	ministre et\n    Céline ont disparu...\n\n 2. Broken Tales: Ce soir\, les 
	lumières étincellent… mais chaque guirlande cache\n    une ombre affamée. 
	Depuis quelques nuits\, une présence ancienne arpente les\n    rues enneig
	ées\, laissant derrière elle l’odeur du sapin brûlé et des traces\n    de 
	sabots noircis. Kråpus\, le Fouet des Fêtes\, le monstre qu’on redoute\, e
	st\n    de retour… pour retrouver les enfants sages kidnappés.\n\n 3. Meme
	nto Mori: La Peste vous a rejetés\, vous êtes les Cinq Errants\, des âmes\
	n    damnées. Votre seule guide\, l'ombre de la jument Mari Lwyd\, vous dé
	pose aux\n    portes du village de Pavin à la vieille de Yule. Trouvez-y u
	n salut... ou\n    embrassez la fin de vôtre humanité.\n\n 4. Fabula Ultim
	a: Noël est en peril ! La magie de Noël à été voler ! Rejoins\n    l'équip
	e d'élite de pôle Nord dans leur quête pour retrouver la magie de\n    Noë
	l. Une histoire mignonne pour tous les membres de la famille. Installer\n 
	   vous confortablement à côté du foyer en buvant un chocolat chaud car\n 
	   aujourd'hui on raconte une histoire de Noël !\n\n 5. Donjon de Naheulbe
	uk: Noël est dans seulement deux jours et le père Noël a\n    perdu son 9ᵉ
	 renne Rudolphe. On raconte l’avoir aperçu dans le Donjon de\n    Naheulbe
	uk à grignoter les oreilles d’un gnome des Forêts du Nord\n    unijambiste
	 dansant la macarena. Les aventuriers sont ainsi renvoyés dans le\n    don
	jon légendaire\, par saint Nicolas lui-même\, pour récupérer Rudolphe et\n
	    sauver Noël. Qui sait ce qu'ils vont trouver sur leur chemin... \n\nL'
	événement se tiendra à l'étage de la librairie L'encrage\, au 25 Av.\nPrin
	cipale\, Rouyn-Noranda.
URL:https://calendrigeek.com/event/soiree-jeu-de-role-speciale-fete-de-fin-
	dannee
GEO:48.2421;-79.0202
LOCATION:L'Encrage\, Rouyn-Noranda - 25\, Av. Principale\, Rouyn-Noranda\, 
	Québec\, J9X 4N8
STATUS:CONFIRMED
CATEGORIES:Jeux de rôle,Social
X-ALT-DESC;FMTTYPE=text/html:<p><strong>Bienvenue à notre soirée jeu de rôl
	e !</strong></p><p>Nous sommes ravis de vous inviter à une soirée inoublia
	ble dédiée aux amateurs de jeux de rôle. Que vous soyez un vétéran ou un n
	ouveau venu, rejoignez-nous pour une aventure épique ! Voici les détails d
	es cinq tables disponibles :</p><ol><li><p><strong>Outgunned:&nbsp;</stron
	g>24 décembre 18h00. Une dernière visite guidée de la demeure officielle d
	u premier ministre qui y reçoit Céline Dion pour un dîner de Noël privé. S
	oudain, des coups de feu éclatent. Les gardes tombent. Les communications 
	sont coupées, les enfants pleurent et le Premier ministre et Céline ont di
	sparu...</p></li><li><p><strong>Broken Tales:&nbsp;</strong>Ce soir, les l
	umières étincellent… mais chaque guirlande cache une ombre affamée. Depuis
	 quelques nuits, une présence ancienne arpente les rues enneigées, laissan
	t derrière elle l’odeur du sapin brûlé et des traces de sabots noircis. Kr
	åpus, le Fouet des Fêtes, le monstre qu’on redoute, est de retour… pour re
	trouver les enfants sages kidnappés.</p></li><li><p><strong>Memento Mori:&
	nbsp;</strong>La Peste vous a rejetés, vous êtes les Cinq Errants, des âme
	s damnées. Votre seule guide, l'ombre de la jument Mari Lwyd, vous dépose 
	aux portes du village de Pavin à la vieille de Yule. Trouvez-y un salut...
	 ou embrassez la fin de vôtre humanité.</p></li><li><p><strong>Fabula Ulti
	ma:&nbsp;</strong>Noël est en peril ! La magie de Noël à été voler ! Rejoi
	ns l'équipe d'élite de pôle Nord dans leur quête pour retrouver la magie d
	e Noël. Une histoire mignonne pour tous les membres de la famille. Install
	er vous confortablement à côté du foyer en buvant un chocolat chaud car au
	jourd'hui on raconte une histoire de Noël !</p></li><li><p><strong>Donjon 
	de Naheulbeuk:&nbsp;</strong>Noël est dans seulement deux jours et le père
	 Noël a perdu son 9ᵉ renne Rudolphe. On raconte l’avoir aperçu dans le Don
	jon de Naheulbeuk à grignoter les oreilles d’un gnome des Forêts du Nord u
	nijambiste dansant la macarena. Les aventuriers sont ainsi renvoyés dans l
	e donjon légendaire, par saint Nicolas lui-même, pour récupérer Rudolphe e
	t sauver Noël. Qui sait ce qu'ils vont trouver sur leur chemin...&nbsp;</p
	></li></ol><p>L'événement se tiendra à l'étage de la librairie L'encrage, 
	au 25 Av. Principale, Rouyn-Noranda.</p>
BEGIN:VALARM
ACTION:DISPLAY
DESCRIPTION:Soirée jeu de rôle spéciale fête de fin d'année !
TRIGGER:-PT1H
END:VALARM
END:VEVENT
END:VCALENDAR
