BEGIN:VCALENDAR
VERSION:2.0
CALSCALE:GREGORIAN
PRODID:adamgibbons/ics
METHOD:PUBLISH
X-PUBLISHED-TTL:PT1H
BEGIN:VEVENT
UID:1595@calendrigeek.com
SUMMARY:Soirée jeux de société à Chapais - Objectif Bienveillance
DTSTAMP:20260421T125948Z
DTSTART:20260117T233000Z
DTEND:20260118T033000Z
URL:https://calendrigeek.com/event/soiree-jeux-de-societe-a-chapais-objecti
	f-bienveillance
LOCATION:Salle communautaire de Chapais - 188\, Boul. Springer
STATUS:CONFIRMED
CATEGORIES:Jeux de société
BEGIN:VALARM
ACTION:DISPLAY
DESCRIPTION:Soirée jeux de société à Chapais - Objectif Bienveillance
TRIGGER:-PT1H
END:VALARM
END:VEVENT
END:VCALENDAR
