BEGIN:VCALENDAR
VERSION:2.0
CALSCALE:GREGORIAN
PRODID:adamgibbons/ics
METHOD:PUBLISH
X-PUBLISHED-TTL:PT1H
BEGIN:VEVENT
UID:1612@calendrigeek.com
SUMMARY:Store Championship Magic! Format Standard
DTSTAMP:20260421T112634Z
DTSTART:20260206T233000Z
DTEND:20260207T020000Z
DESCRIPTION:Store Championship Magic The gathering.\nFormat: Standard\nPrix
	 : 10$ Taxes Incluses\n\n5-8 joueurs = 3 rounds\n9-16 joueurs = 4 rounds\n
	17+ joueurs = 5 rounds\n\nNourriture et boissons sur place\n\nAu plaisir d
	e vous voir.\n-L'équipe du Stratagème.
URL:https://calendrigeek.com/event/store-championship-format-standard
GEO:48.5721;-78.1203
LOCATION:Le stratagème Boutique ludique\, Amos - 215 1e avenue ouest Amos
STATUS:CONFIRMED
CATEGORIES:Jeux de cartes,Jeux de cartes à collectionner,magic the gatherin
	g,MTG,tcg
X-ALT-DESC;FMTTYPE=text/html:<p>Store Championship Magic The gathering.<br>
	Format: Standard<br>Prix : 10$ Taxes Incluses<br><br>5-8 joueurs = 3 round
	s<br>9-16 joueurs = 4 rounds<br>17+ joueurs = 5 rounds<br><br>Nourriture e
	t boissons sur place<br><br>Au plaisir de vous voir.<br>-L'équipe du Strat
	agème.</p>
BEGIN:VALARM
ACTION:DISPLAY
DESCRIPTION:Store Championship Magic! Format Standard
TRIGGER:-PT1H
END:VALARM
END:VEVENT
END:VCALENDAR
