BEGIN:VCALENDAR
VERSION:2.0
CALSCALE:GREGORIAN
PRODID:adamgibbons/ics
METHOD:PUBLISH
X-PUBLISHED-TTL:PT1H
BEGIN:VEVENT
UID:1387@calendrigeek.com
SUMMARY:Story Time
DTSTAMP:20260421T100311Z
DTSTART:20251123T153000Z
DTEND:20251123T163000Z
DESCRIPTION:Les histoires qui prennent vie avec Richard Humphrey !\n\nVenez
	 vivre une heure du conte en anglais où chaque mot prend vie à travers des
	\naventures captivantes\, des fous rires\, du plaisir et une imagination s
	ans\nlimite. Pour toute la famille!\n\nRendez-vous à la bibliothèque de Va
	l d’Or !
URL:https://calendrigeek.com/event/story-time
GEO:48.097;-77.7905
LOCATION:Complexe culturel Marcel-Monette\, Val-d'Or - 600\, 7e Rue\, Bourl
	amaque\, Val-d'Or\, La Vallée-de-l'Or\, Québec\, J9P 3P3\, Canada
STATUS:CONFIRMED
CATEGORIES:Conte
X-ALT-DESC;FMTTYPE=text/html:<p>Les histoires qui prennent vie avec Richard
	 Humphrey !</p><p>Venez vivre une heure du conte en anglais où chaque mot 
	prend vie à travers des aventures captivantes, des fous rires, du plaisir 
	et une imagination sans limite. Pour toute la famille!</p><p>Rendez-vous à
	 la bibliothèque de Val d’Or !</p>
BEGIN:VALARM
ACTION:DISPLAY
DESCRIPTION:Story Time
TRIGGER:-PT1H
END:VALARM
END:VEVENT
END:VCALENDAR
