BEGIN:VCALENDAR
VERSION:2.0
CALSCALE:GREGORIAN
PRODID:adamgibbons/ics
METHOD:PUBLISH
X-PUBLISHED-TTL:PT1H
BEGIN:VEVENT
UID:1574@calendrigeek.com
SUMMARY:Tournoi Magic the gathering Format: Modern !
DTSTAMP:20260421T111135Z
DTSTART:20260130T233000Z
DTEND:20260131T020000Z
DESCRIPTION:Tournoi MTG Modern.\nFormat: Modern\nPrix: 10 $ Taxes incluses\
	n\n**Prix remis en crédit magasin au top 4**\n\n5-8 joueurs = 3 rounds\n9-
	16 joueurs = 4 rounds\n17+ joueurs = 5 rounds\n\nNourriture et boissons su
	r place\n\nAu plaisir de vous voir.\n-L'équipe du Stratagème.
URL:https://calendrigeek.com/event/tournoi-magic-the-gathering-format-moder
	n-1
GEO:48.5721;-78.1203
LOCATION:Le stratagème Boutique ludique\, Amos - 215 1e avenue ouest Amos
STATUS:CONFIRMED
CATEGORIES:Jeux de cartes,Jeux de cartes à collectionner,magic the gatherin
	g,MTG,tcg
X-ALT-DESC;FMTTYPE=text/html:<p>Tournoi MTG Modern.<br>Format: Modern<br>Pr
	ix: 10 $ Taxes incluses<br><br>**<strong>Prix remis en crédit magasin au t
	op 4</strong>**<br><br>5-8 joueurs = 3 rounds<br>9-16 joueurs = 4 rounds<b
	r>17+ joueurs = 5 rounds<br><br>Nourriture et boissons sur place<br><br>Au
	 plaisir de vous voir.<br>-L'équipe du Stratagème.</p>
BEGIN:VALARM
ACTION:DISPLAY
DESCRIPTION:Tournoi Magic the gathering Format: Modern !
TRIGGER:-PT1H
END:VALARM
END:VEVENT
END:VCALENDAR
