BEGIN:VCALENDAR
VERSION:2.0
CALSCALE:GREGORIAN
PRODID:adamgibbons/ics
METHOD:PUBLISH
X-PUBLISHED-TTL:PT1H
BEGIN:VEVENT
UID:1420@calendrigeek.com
SUMMARY:Tournoi Modern Magic The Gathering.
DTSTAMP:20260421T100449Z
DTSTART:20251107T233000Z
DTEND:20251108T020000Z
DESCRIPTION:Format Modern\n18h30\n10$ Taxes incluses par personnes.\n\n5-8 
	joueurs = 3 rounds\n9-16 joueurs = 4 rounds\n17-32 joueurs = 5 rounds\n\nB
	oissons et snack disponible sur place .\n\nAu plaisir de vous voir!\n\n-L’
	équipe du Stratagème.
URL:https://calendrigeek.com/event/tournoi-modern-magic-the-gathering-8
GEO:48.5721;-78.1203
LOCATION:Le stratagème Boutique ludique\, Amos - 215 1e avenue ouest Amos
STATUS:CONFIRMED
CATEGORIES:Jeux de cartes,Jeux de cartes à collectionner,magic the gatherin
	g,MTG,tcg
X-ALT-DESC;FMTTYPE=text/html:<p>Format Modern<br>18h30<br>10$ Taxes incluse
	s par personnes.<br><br>5-8 joueurs = 3 rounds<br>9-16 joueurs = 4 rounds<
	br>17-32 joueurs = 5 rounds<br><br>Boissons et snack disponible sur place 
	.<br><br>Au plaisir de vous voir!<br><br>-L’équipe du Stratagème.</p>
BEGIN:VALARM
ACTION:DISPLAY
DESCRIPTION:Tournoi Modern Magic The Gathering.
TRIGGER:-PT1H
END:VALARM
END:VEVENT
END:VCALENDAR
