BEGIN:VCALENDAR
VERSION:2.0
CALSCALE:GREGORIAN
PRODID:adamgibbons/ics
METHOD:PUBLISH
X-PUBLISHED-TTL:PT1H
BEGIN:VEVENT
UID:1475@calendrigeek.com
SUMMARY:Tournoi Pixel - Mario Kart World
DTSTAMP:20260421T100456Z
DTSTART:20251114T233000Z
DTEND:20251115T023000Z
DESCRIPTION:Vous avez eu le temps de vous pratiquer depuis le dernier tourn
	oi\, est-ce que\nquelqu'un va finalement venir détrôner le champion?!\n\n3
	 consoles\, 2 pilotes par console\, 1 grosse soirée de compétition. Ouvert
	 à\ntous!
URL:https://calendrigeek.com/event/tournoi-pixel-mario-kart-world-1
GEO:48.2371;-79.0202
LOCATION:Pixel Espace Vidéoludique - 140 avenue Principale\, Rouyn-Noranda
STATUS:CONFIRMED
CATEGORIES:Jeux vidéo,Social,Tournoi
X-ALT-DESC;FMTTYPE=text/html:<p>Vous avez eu le temps de vous pratiquer dep
	uis le dernier tournoi, est-ce que quelqu'un va finalement venir détrôner 
	le champion?!</p><p>3 consoles, 2 pilotes par console, 1 grosse soirée de 
	compétition. Ouvert à tous!</p>
BEGIN:VALARM
ACTION:DISPLAY
DESCRIPTION:Tournoi Pixel - Mario Kart World
TRIGGER:-PT1H
END:VALARM
END:VEVENT
END:VCALENDAR
