BEGIN:VCALENDAR
VERSION:2.0
CALSCALE:GREGORIAN
PRODID:adamgibbons/ics
METHOD:PUBLISH
X-PUBLISHED-TTL:PT1H
BEGIN:VEVENT
UID:1606@calendrigeek.com
SUMMARY:Tournoi Pixel - Mario Kart World
DTSTAMP:20260421T112708Z
DTSTART:20260208T000000Z
DTEND:20260208T030000Z
DESCRIPTION:C'est le temps du premier tournoi Pixel de l'année!!\n\nDe la b
	elle compétition amicale sur les courses de Mario Kart World. C'est le\nte
	mps de venir s'imposer en début de saison. Venez vous pratiquer en début d
	e\njournée\, le tournoi va débuter à 19h.\n\nPrix pour le podium :\n\n * 1
	ère place: Billet VIP pour le RouynCon2\n\n * 2e: Billet régulier pour le 
	RouynCon2\n\n * 3e: Entrée gratuite au Pixel
URL:https://calendrigeek.com/event/tournoi-pixel-mario-kart-world-2
GEO:48.2371;-79.0202
LOCATION:Pixel Espace Vidéoludique - 140 avenue Principale\, Rouyn-Noranda
STATUS:CONFIRMED
CATEGORIES:Jeux vidéo,Social,Tournoi
X-ALT-DESC;FMTTYPE=text/html:<p>C'est le temps du premier tournoi Pixel de 
	l'année!!</p><p>De la belle compétition amicale sur les courses de Mario K
	art World. C'est le temps de venir s'imposer en début de saison. Venez vou
	s pratiquer en début de journée, le tournoi va débuter à 19h.</p><p>Prix p
	our le podium :</p><ul><li><p>1ère place: Billet VIP pour le RouynCon2</p>
	</li><li><p>2e: Billet régulier pour le RouynCon2</p></li><li><p>3e: Entré
	e gratuite au Pixel</p></li></ul>
BEGIN:VALARM
ACTION:DISPLAY
DESCRIPTION:Tournoi Pixel - Mario Kart World
TRIGGER:-PT1H
END:VALARM
END:VEVENT
END:VCALENDAR
