BEGIN:VCALENDAR
VERSION:2.0
CALSCALE:GREGORIAN
PRODID:adamgibbons/ics
METHOD:PUBLISH
X-PUBLISHED-TTL:PT1H
BEGIN:VEVENT
UID:1333@calendrigeek.com
SUMMARY:Tournoi Pixel - Mario Kart World
DTSTAMP:20260421T112656Z
DTSTART:20251003T223000Z
DTEND:20251004T013000Z
DESCRIPTION:Le premier vendredi du mois ça veut dire qu'on joue à Mario Kar
	t au Pixel!\nEncore une fois\, une belle soirée de compétition amicale\, 3
	 télé\, 6 pilotes à la\nfois.\n\nEst-ce que quelqu'un va finalement détrôn
	er Jean-Gabriel?!
URL:https://calendrigeek.com/event/tournoi-pixel-mario-kart-world
GEO:48.2371;-79.0202
LOCATION:Pixel Espace Vidéoludique - 140 avenue Principale\, Rouyn-Noranda
STATUS:CONFIRMED
CATEGORIES:Jeux vidéo,Social,Tournoi
X-ALT-DESC;FMTTYPE=text/html:<p>Le premier vendredi du mois ça veut dire qu
	'on joue à Mario Kart au Pixel! Encore une fois, une belle soirée de compé
	tition amicale, 3 télé, 6 pilotes à la fois.</p><p>Est-ce que quelqu'un va
	 finalement détrôner Jean-Gabriel?!</p>
BEGIN:VALARM
ACTION:DISPLAY
DESCRIPTION:Tournoi Pixel - Mario Kart World
TRIGGER:-PT1H
END:VALARM
END:VEVENT
END:VCALENDAR
